BEGIN:VCALENDAR
PRODID:-//eluceo/ical//2.0/EN
VERSION:2.0
CALSCALE:GREGORIAN
BEGIN:VEVENT
UID:9ad7105706ab043821bd74790b5a1cd2
DTSTAMP:20260422T083508Z
SUMMARY:ELIAS ABOUD\, MARTIN BARTH & DOMINIC OELZE
DESCRIPTION:Musik für Schlagzeug\nhttps://www.boulezsaal.de/de/event/elias
 -aboud-martin-barth-dominic-oelze-593109
DTSTART;TZID=Europe/Berlin:20260430T193000
DTEND;TZID=Europe/Berlin:20260430T213000
LOCATION:PBS | Pierre Boulez Saal | PBS
END:VEVENT
END:VCALENDAR
