BEGIN:VCALENDAR
PRODID:-//eluceo/ical//2.0/EN
VERSION:2.0
CALSCALE:GREGORIAN
BEGIN:VEVENT
UID:e173b35c04b5ec935cc282894796a4d7
DTSTAMP:20260425T161834Z
SUMMARY:AKADEMIEFORUM: ULRIKE DRAESNER
DESCRIPTION:Lesung und Gespräch: penelopes sch()iff\nhttps://www.boulezsaa
 l.de/de/event/akademieforum-ulrike-draesner-769266
DTSTART;TZID=Europe/Berlin:20260512T180000
DTEND;TZID=Europe/Berlin:20260512T193000
LOCATION:FOY | Foyer | PBS
END:VEVENT
END:VCALENDAR
