BEGIN:VCALENDAR
PRODID:-//eluceo/ical//2.0/EN
VERSION:2.0
CALSCALE:GREGORIAN
BEGIN:VEVENT
UID:c58da3490e919502cbfa39f3361b38cf
DTSTAMP:20260425T143741Z
SUMMARY:AKADEMIEFORUM: ASAD Q. AHMED
DESCRIPTION:Vortrag und Lesung: Palestine in South Asian Literature\nhttps:
 //www.boulezsaal.de/de/event/akademieforum-asad-q-ahmed-769267
DTSTART;TZID=Europe/Berlin:20260511T180000
DTEND;TZID=Europe/Berlin:20260511T193000
LOCATION:MA | Mozart Auditorium | PBS
END:VEVENT
END:VCALENDAR
