BEGIN:VCALENDAR
PRODID:-//eluceo/ical//2.0/EN
VERSION:2.0
CALSCALE:GREGORIAN
BEGIN:VEVENT
UID:c0175eab4a49da75c5ec5adcb7956480
DTSTAMP:20260425T180208Z
SUMMARY:AKADEMIE FORUM: ULRIKE DRAESNER
DESCRIPTION:Reading and Conversation: penelopes sch()iff\nhttps://www.boule
 zsaal.de/en/event/akademie-forum-ulrike-draesner-769266
DTSTART;TZID=Europe/Berlin:20260512T180000
DTEND;TZID=Europe/Berlin:20260512T193000
LOCATION:FOY | Foyer | PBS
END:VEVENT
END:VCALENDAR
