BEGIN:VCALENDAR
PRODID:-//eluceo/ical//2.0/EN
VERSION:2.0
CALSCALE:GREGORIAN
BEGIN:VEVENT
UID:24f6c6a0af27063a4998037740fb930a
DTSTAMP:20260425T161147Z
SUMMARY:AKADEMIE FORUM: ASAD Q. AHMED
DESCRIPTION:Lecture and Reading: Palestine in South Asian Literature\nhttps
 ://www.boulezsaal.de/en/event/akademie-forum-asad-q-ahmed-769267
DTSTART;TZID=Europe/Berlin:20260511T180000
DTEND;TZID=Europe/Berlin:20260511T193000
LOCATION:MA | Mozart Auditorium | PBS
END:VEVENT
END:VCALENDAR
